BEGIN:VCALENDAR
VERSION:2.0
PRODID:-//FSC Kids - ECPv6.15.20//NONSGML v1.0//EN
CALSCALE:GREGORIAN
METHOD:PUBLISH
X-WR-CALNAME:FSC Kids
X-ORIGINAL-URL:https://fsc.kids
X-WR-CALDESC:Events for FSC Kids
REFRESH-INTERVAL;VALUE=DURATION:PT1H
X-Robots-Tag:noindex
X-PUBLISHED-TTL:PT1H
BEGIN:VTIMEZONE
TZID:America/Chicago
BEGIN:DAYLIGHT
TZOFFSETFROM:-0600
TZOFFSETTO:-0500
TZNAME:CDT
DTSTART:20250309T080000
END:DAYLIGHT
BEGIN:STANDARD
TZOFFSETFROM:-0500
TZOFFSETTO:-0600
TZNAME:CST
DTSTART:20251102T070000
END:STANDARD
BEGIN:DAYLIGHT
TZOFFSETFROM:-0600
TZOFFSETTO:-0500
TZNAME:CDT
DTSTART:20260308T080000
END:DAYLIGHT
BEGIN:STANDARD
TZOFFSETFROM:-0500
TZOFFSETTO:-0600
TZNAME:CST
DTSTART:20261101T070000
END:STANDARD
BEGIN:DAYLIGHT
TZOFFSETFROM:-0600
TZOFFSETTO:-0500
TZNAME:CDT
DTSTART:20270314T080000
END:DAYLIGHT
BEGIN:STANDARD
TZOFFSETFROM:-0500
TZOFFSETTO:-0600
TZNAME:CST
DTSTART:20271107T070000
END:STANDARD
END:VTIMEZONE
BEGIN:VEVENT
DTSTART;TZID=America/Chicago:20261002T090000
DTEND;TZID=America/Chicago:20261002T173000
DTSTAMP:20260423T203854
CREATED:20240714T191234Z
LAST-MODIFIED:20251212T181003Z
UID:761-1790931600-1790962200@fsc.kids
SUMMARY:Introduction to Play Therapy
DESCRIPTION:Presenter: Nancy Rumley Soliz\, MS\, LMFT\, RPT-S™ \nCourse Description\nParticipants will be introduced to basic concepts including play room setup\, portable playrooms\, and toy selection. Child-Centered Play Therapy will be explored as an initial introduction into play therapy. \nLearning Objectives \n\nPrepare a Child-Centered Play Therapy session.\nCreate a play therapy room.\nCreate a travel play therapy room.\nDemonstrate 3 or more key aspects of Child-Centered Play Therapy.\nDemonstrate 3 or more appropriate facilitating responses in Child-Centered Play Therapy.\nDemonstrate 1 or more ways to set limits in the play room.\nAnalyze 1 or more ways to involve the family in the play therapy process.\nPrepare a directive play therapy session.\n\nAPT Approved Provider 17-491 \nPrice: $195 for 7.5 CE Hours \nClick Here to Register
URL:https://fsc.kids/event/introduction-to-play-therapy/
LOCATION:FSC Kids\, 10400 N. Vineyard\, Suite B\, Oklahoma City\, OK\, 73120
CATEGORIES:OK Play Therapy Training Institute
END:VEVENT
BEGIN:VEVENT
DTSTART;TZID=America/Chicago:20261016T090000
DTEND;TZID=America/Chicago:20261016T173000
DTSTAMP:20260423T203854
CREATED:20240714T205847Z
LAST-MODIFIED:20250906T170218Z
UID:812-1792141200-1792171800@fsc.kids
SUMMARY:Uniting Family Therapy Theories with Play Therapy
DESCRIPTION:Presenter: Nancy Rumley Soliz\, MS\, LMFT\, RPT-S™ \nCourse Description\nThis course will take into consideration how the family can be used in play therapy.  Classic schools of family theories such as Systems\, Bowenian\, Structural\, Strategic\, Experiential\, and Cognitive-Behavioral Family Therapy will be explored as well as post-modern theories of Solution-Focused and Narrative therapy will be examined through the lens of play therapy.  Participants will also learn various techniques and applications to use when families enter the play room. \nLearning Objectives \n\nList 3 or more components of the basic history of the development of family therapy.\nDescribe 1 or more ways to integrate Bowenian Family Therapy with Play Therapy.\nDescribe 1 or more ways to integrate Strategic Family Therapy with Play Therapy.\nDescribe 1 or more ways to integrate Structural Family Therapy with Play Therapy.\nDescribe 1 or more ways to integrate Experiential Family Therapy with Play Therapy.\nDescribe 1 or more ways to integrate Psychoanalytic Family Therapy with Play Therapy.\nDescribe 1 or more ways to integrate Cognitive-Behavioral Family Therapy with Play Therapy.\nDescribe 1 or more ways to integrate Solution-Focused Family Therapy with Play Therapy.\nDescribe 1 or more ways to integrate Narrative Family Therapy with Play Therapy.\n\nAPT Approved Provider 17-491 \nPrice: $195 for 7.5 CE Hours \nClick Here to Register
URL:https://fsc.kids/event/uniting-family-therapy-theories-with-play-therapy/
LOCATION:FSC Kids\, 10400 N. Vineyard\, Suite B\, Oklahoma City\, OK\, 73120
CATEGORIES:OK Play Therapy Training Institute
END:VEVENT
END:VCALENDAR