BEGIN:VCALENDAR
VERSION:2.0
PRODID:-//FSC Kids - ECPv6.15.20//NONSGML v1.0//EN
CALSCALE:GREGORIAN
METHOD:PUBLISH
X-WR-CALNAME:FSC Kids
X-ORIGINAL-URL:https://fsc.kids
X-WR-CALDESC:Events for FSC Kids
REFRESH-INTERVAL;VALUE=DURATION:PT1H
X-Robots-Tag:noindex
X-PUBLISHED-TTL:PT1H
BEGIN:VTIMEZONE
TZID:America/Chicago
BEGIN:DAYLIGHT
TZOFFSETFROM:-0600
TZOFFSETTO:-0500
TZNAME:CDT
DTSTART:20250309T080000
END:DAYLIGHT
BEGIN:STANDARD
TZOFFSETFROM:-0500
TZOFFSETTO:-0600
TZNAME:CST
DTSTART:20251102T070000
END:STANDARD
BEGIN:DAYLIGHT
TZOFFSETFROM:-0600
TZOFFSETTO:-0500
TZNAME:CDT
DTSTART:20260308T080000
END:DAYLIGHT
BEGIN:STANDARD
TZOFFSETFROM:-0500
TZOFFSETTO:-0600
TZNAME:CST
DTSTART:20261101T070000
END:STANDARD
BEGIN:DAYLIGHT
TZOFFSETFROM:-0600
TZOFFSETTO:-0500
TZNAME:CDT
DTSTART:20270314T080000
END:DAYLIGHT
BEGIN:STANDARD
TZOFFSETFROM:-0500
TZOFFSETTO:-0600
TZNAME:CST
DTSTART:20271107T070000
END:STANDARD
END:VTIMEZONE
BEGIN:VEVENT
DTSTART;TZID=America/Chicago:20261106T090000
DTEND;TZID=America/Chicago:20261106T173000
DTSTAMP:20260423T220534
CREATED:20240714T192612Z
LAST-MODIFIED:20251212T181113Z
UID:773-1793955600-1793986200@fsc.kids
SUMMARY:Play Therapy Theories: Exploring Child-Centered and Adlerian Play Therapy
DESCRIPTION:Presenter: Nancy Rumley Soliz\, MS\, LMFT\, RPT-S™ \nCourse Description\nIn order to practice play therapy successfully\, a working understanding of the foundational theories surrounding play therapy is essential. This training will explore Child-Centered and Adlerian Play Therapy theories. Professionals will be encouraged to consider their own personality in relation to each theory when working with clients and families using play therapy. This will be accomplished by using lecture\, discussion\, experiential learning\, and case studies. \nLearning Objectives \n\nDescribe 3 or more basic concepts of Child-Centered Play Therapy.\nDescribe 3 or more basic concepts of Adlerian Play Therapy.\nExplain 1 or more ways the theory behind Child-Centered Play Therapy informs every day practice.\nExplain 1 or more ways the theory behind Adlerian Play Therapy informs every day practice.\nDemonstrate a play therapy technique/session from the prospective of 1 or more play therapy theories.\nCritique 2 or more play therapy sessions implementing either Child-Centered or Adlerian Play Therapy.\nDiscuss how to incorporate 1 or more theories into their practice of play therapy according to each participants’ own self-as-a-therapist.\nDiscuss 1 or more recent research articles implementing Child-Centered and Adlerian Play Therapy.\n\nAPT Approved Provider 17-491 \nPrice: $195 for 7.5 CE Hours \nClick Here to Register
URL:https://fsc.kids/event/play-therapy-theories-exploring-child-centered-and-adlerian-play-therapy/
LOCATION:FSC Kids\, 10400 N. Vineyard\, Suite B\, Oklahoma City\, OK\, 73120
CATEGORIES:OK Play Therapy Training Institute
END:VEVENT
BEGIN:VEVENT
DTSTART;TZID=America/Chicago:20261113T090000
DTEND;TZID=America/Chicago:20261113T173000
DTSTAMP:20260423T220534
CREATED:20240714T210415Z
LAST-MODIFIED:20251110T221253Z
UID:814-1794560400-1794591000@fsc.kids
SUMMARY:Using Sandtray in Play Therapy: Beginner
DESCRIPTION:Presenter: Nancy Rumley Soliz\, MS\, LMFT\, RPT-S™ \nCourse Description \nThis course will introduce the use of sand tray therapy as a therapeutic technique to be used in play therapy. It will explore the history and rationale of sandtray therapy and cover fundamental and sandtray techniques with individuals\, families and groups. Participants will have the opportunity to experience sandtray activities and will explore and process sandtray therapy. \nLearning Objectives \n\nParticipants will analyze the history and rationale for sandtray therapy and the connection to play therapy.\nParticipants will be able to identify and distinguish sand play and sand tray therapy.\nParticipants will identify how to select appropriate sand\, trays\, and play therapy miniatures.\nParticipants will apply and demonstrate 1 or more ways of how to set up and categorize miniatures.\nParticipants will identify 2 ways that sand tray therapy integrates left brain and right brain.\nParticipants will create documentation for sandtray therapy sessions.\nParticipants will have an opportunity to prepare and process a non-directive sandtray.\nParticipants will have the opportunity to prepare and process a directive sandtray.\nParticipants will have the opportunity to analyze and document a sandtray.\n\nAPT Approved Provider 17-491 \nPrice: $195 for 7.5 CE Hours \nClick Here to Register
URL:https://fsc.kids/event/using-sandtray-in-play-therapy-beginner/
LOCATION:FSC Kids\, 10400 N. Vineyard\, Suite B\, Oklahoma City\, OK\, 73120
CATEGORIES:OK Play Therapy Training Institute
END:VEVENT
END:VCALENDAR