BEGIN:VCALENDAR
VERSION:2.0
PRODID:-//FSC Kids - ECPv6.15.20//NONSGML v1.0//EN
CALSCALE:GREGORIAN
METHOD:PUBLISH
X-WR-CALNAME:FSC Kids
X-ORIGINAL-URL:https://fsc.kids
X-WR-CALDESC:Events for FSC Kids
REFRESH-INTERVAL;VALUE=DURATION:PT1H
X-Robots-Tag:noindex
X-PUBLISHED-TTL:PT1H
BEGIN:VTIMEZONE
TZID:America/Chicago
BEGIN:DAYLIGHT
TZOFFSETFROM:-0600
TZOFFSETTO:-0500
TZNAME:CDT
DTSTART:20250309T080000
END:DAYLIGHT
BEGIN:STANDARD
TZOFFSETFROM:-0500
TZOFFSETTO:-0600
TZNAME:CST
DTSTART:20251102T070000
END:STANDARD
BEGIN:DAYLIGHT
TZOFFSETFROM:-0600
TZOFFSETTO:-0500
TZNAME:CDT
DTSTART:20260308T080000
END:DAYLIGHT
BEGIN:STANDARD
TZOFFSETFROM:-0500
TZOFFSETTO:-0600
TZNAME:CST
DTSTART:20261101T070000
END:STANDARD
BEGIN:DAYLIGHT
TZOFFSETFROM:-0600
TZOFFSETTO:-0500
TZNAME:CDT
DTSTART:20270314T080000
END:DAYLIGHT
BEGIN:STANDARD
TZOFFSETFROM:-0500
TZOFFSETTO:-0600
TZNAME:CST
DTSTART:20271107T070000
END:STANDARD
END:VTIMEZONE
BEGIN:VEVENT
DTSTART;TZID=America/Chicago:20260515T090000
DTEND;TZID=America/Chicago:20260515T173000
DTSTAMP:20260423T174112
CREATED:20240714T204201Z
LAST-MODIFIED:20250707T233307Z
UID:794-1778835600-1778866200@fsc.kids
SUMMARY:Play Therapy Across the Lifespan: Adults\, Couples\, and Groups
DESCRIPTION:Presenter: Brandy Guidry\, MA LPC\, RPT-S™ \nCourse Description\nPlay Therapist should have knowledge of the lifespan applications of play therapy. This class will increase the therapist’s self-awareness\, and knowledge about working with adults\, couples\, and groups. \nLearning Objectives \n\n\n\nExplain the importance of knowing development throughout the lifespan and play themes that are common in the different stages of development.\nAnalyze 2 or more stages of development and how they impact play therapy clients- observing the different characteristics of the individual.\nDescribe lifespan development theories and identify 3 or more play therapy techniques to use with specific age groups\, couples\, and groups.\nDescribe and utilize knowledge of lifespan development in working with play therapy clients and identify 3 or more ways it’s impact can be used in explaining them importance of the knowledge of different stages of development.\nDescribe 2 or more ways to engage couples in play therapy.\nDemonstrate 3 or more play therapy techniques and applications to use with clients in different stages of development.\nDescribe 2 or more theoretical approaches to lifespan development that can be used working with groups using play therapy.\nDescribe ways to develop a competent practice\, build sensitivity and knowledge for all stages of life.\nBuild awareness of how to integrate specific techniques with adults\, groups and couples using play therapy.\n\n\n\nAPT Approved Provider 17-491 \nPrice: $195 for 7.5 CE Hours \nClick Here to Register\n 
URL:https://fsc.kids/event/play-therapy-across-the-lifespan-adults-couples-and-groups/
LOCATION:FSC Kids\, 10400 N. Vineyard\, Suite B\, Oklahoma City\, OK\, 73120
CATEGORIES:OK Play Therapy Training Institute
END:VEVENT
END:VCALENDAR