BEGIN:VCALENDAR
VERSION:2.0
PRODID:-//FSC Kids - ECPv6.15.20//NONSGML v1.0//EN
CALSCALE:GREGORIAN
METHOD:PUBLISH
X-WR-CALNAME:FSC Kids
X-ORIGINAL-URL:https://fsc.kids
X-WR-CALDESC:Events for FSC Kids
REFRESH-INTERVAL;VALUE=DURATION:PT1H
X-Robots-Tag:noindex
X-PUBLISHED-TTL:PT1H
BEGIN:VTIMEZONE
TZID:America/Chicago
BEGIN:DAYLIGHT
TZOFFSETFROM:-0600
TZOFFSETTO:-0500
TZNAME:CDT
DTSTART:20250309T080000
END:DAYLIGHT
BEGIN:STANDARD
TZOFFSETFROM:-0500
TZOFFSETTO:-0600
TZNAME:CST
DTSTART:20251102T070000
END:STANDARD
BEGIN:DAYLIGHT
TZOFFSETFROM:-0600
TZOFFSETTO:-0500
TZNAME:CDT
DTSTART:20260308T080000
END:DAYLIGHT
BEGIN:STANDARD
TZOFFSETFROM:-0500
TZOFFSETTO:-0600
TZNAME:CST
DTSTART:20261101T070000
END:STANDARD
BEGIN:DAYLIGHT
TZOFFSETFROM:-0600
TZOFFSETTO:-0500
TZNAME:CDT
DTSTART:20270314T080000
END:DAYLIGHT
BEGIN:STANDARD
TZOFFSETFROM:-0500
TZOFFSETTO:-0600
TZNAME:CST
DTSTART:20271107T070000
END:STANDARD
END:VTIMEZONE
BEGIN:VEVENT
DTSTART;TZID=America/Chicago:20260911T090000
DTEND;TZID=America/Chicago:20260911T173000
DTSTAMP:20260423T203006
CREATED:20240702T174540Z
LAST-MODIFIED:20251212T180930Z
UID:519-1789117200-1789147800@fsc.kids
SUMMARY:Who\, What\, When\, Where\, Why: A History of the Field of Play Therapy
DESCRIPTION:Presenter: Nancy Rumley Soliz\, MS\, LMFT\, RPT-S™ \nCourse Description\nThis course will first explore the history and origins of play therapy. Participates will engage via lecture\, group discussion\, and experiential learning. Professionals will be introduced to past and current research studies pointing to the effectiveness and limitations of play therapy. Participants will also explore the Therapeutic Powers of Play. \nLearning Objectives \n\nDescribe 3 key aspects of play.\nCritique 3 or more results of play deficits in children.\nDiscuss 3 or more skills and resources that are developed through play.\nIdentify 3 or more key players in the early history of play therapy.\nDemonstrate 2 or more ways how the history and development of play therapy influence play therapy today.\nAnalyze the Therapeutic Powers of Play.\nDescribe 3 key aspects of play therapy.\nDescribe where to find research on play therapy as well as cite 3 or more ways to obtain that research in the future.\n\nAPT Approved Provider 17-491 \nPrice: $195 for 7.5 CE Hours \nClick Here to Register
URL:https://fsc.kids/event/who-what-when-where-why-a-history-of-the-field-of-play-therapy/
LOCATION:FSC Kids\, 10400 N. Vineyard\, Suite B\, Oklahoma City\, OK\, 73120
CATEGORIES:OK Play Therapy Training Institute
END:VEVENT
END:VCALENDAR