BEGIN:VCALENDAR
VERSION:2.0
PRODID:-//FSC Kids - ECPv6.15.20//NONSGML v1.0//EN
CALSCALE:GREGORIAN
METHOD:PUBLISH
X-ORIGINAL-URL:https://fsc.kids
X-WR-CALDESC:Events for FSC Kids
REFRESH-INTERVAL;VALUE=DURATION:PT1H
X-Robots-Tag:noindex
X-PUBLISHED-TTL:PT1H
BEGIN:VTIMEZONE
TZID:America/Chicago
BEGIN:DAYLIGHT
TZOFFSETFROM:-0600
TZOFFSETTO:-0500
TZNAME:CDT
DTSTART:20260308T080000
END:DAYLIGHT
BEGIN:STANDARD
TZOFFSETFROM:-0500
TZOFFSETTO:-0600
TZNAME:CST
DTSTART:20261101T070000
END:STANDARD
BEGIN:DAYLIGHT
TZOFFSETFROM:-0600
TZOFFSETTO:-0500
TZNAME:CDT
DTSTART:20270314T080000
END:DAYLIGHT
BEGIN:STANDARD
TZOFFSETFROM:-0500
TZOFFSETTO:-0600
TZNAME:CST
DTSTART:20271107T070000
END:STANDARD
BEGIN:DAYLIGHT
TZOFFSETFROM:-0600
TZOFFSETTO:-0500
TZNAME:CDT
DTSTART:20280312T080000
END:DAYLIGHT
BEGIN:STANDARD
TZOFFSETFROM:-0500
TZOFFSETTO:-0600
TZNAME:CST
DTSTART:20281105T070000
END:STANDARD
END:VTIMEZONE
BEGIN:VEVENT
DTSTART;TZID=America/Chicago:20270108T090000
DTEND;TZID=America/Chicago:20270108T173000
DTSTAMP:20260424T021922
CREATED:20240714T200154Z
LAST-MODIFIED:20260211T154010Z
UID:779-1799398800-1799429400@fsc.kids
SUMMARY:Seminal Theories and Ethical Considerations in Play Therapy
DESCRIPTION:Presenter: Nancy Rumley Soliz\, MS\, LMFT\, RPT-S™ \nCourse Description\nIn order to practice play therapy successfully\, a working understanding of the foundational theories surrounding play therapy is essential. This training will explore theories that have impacted the practice of play therapy. Professionals will be encouraged to consider their own personality in relation to each theory when working with clients and families using play therapy. This will be accomplished by using lecture\, discussion\, experiential learning\, and case studies. Ethical considerations for working with children and families will also be explored. \nLearning Objectives \n\nDescribe 1 or more basic concepts of Psychodynamic Play Therapy.\nDescribe 1 or more basic concepts of Cognitive-Behavioral Play Therapy.\nDescribe 1 or more basic concepts of Experiential Play Therapy.\nDescribe 1 or more basic concepts of Gestalt Play Therapy.\nDescribe 1 or more basic concepts of Filial Play Therapy.\nDescribe 1 or more basic concepts of Theraplay.\nDescribe 1 or more basic concepts of Developmental Play Therapy.\nDescribe 1 or more basic concept of Ecosystemic Play Therapy.\nDescribe 1 or more basic concepts of Prescriptive Play Therapy.\nDemonstrate a play therapy technique/session from the prospective of 1 or more play therapy theories.\nDiscuss how to incorporate 1 or more theories into their practice of play therapy according to each participants’ own self-as-a-therapist.\nPlan how to incorporate Play Therapy Best Practices and the Paper on Touch in order to support ethical practices in play therapy.\n\n  \nAPT Approved Provider 17-491 \nPrice: $195 for 7.5 CE Hours \nClick Here to Register
URL:https://fsc.kids/event/seminal-theories-and-ethical-considerations-in-play-therapy/
LOCATION:FSC Kids\, 10400 N. Vineyard\, Suite B\, Oklahoma City\, OK\, 73120
CATEGORIES:OK Play Therapy Training Institute
END:VEVENT
END:VCALENDAR