BEGIN:VCALENDAR
VERSION:2.0
PRODID:-//FSC Kids - ECPv6.15.20//NONSGML v1.0//EN
CALSCALE:GREGORIAN
METHOD:PUBLISH
X-ORIGINAL-URL:https://fsc.kids
X-WR-CALDESC:Events for FSC Kids
REFRESH-INTERVAL;VALUE=DURATION:PT1H
X-Robots-Tag:noindex
X-PUBLISHED-TTL:PT1H
BEGIN:VTIMEZONE
TZID:America/Chicago
BEGIN:DAYLIGHT
TZOFFSETFROM:-0600
TZOFFSETTO:-0500
TZNAME:CDT
DTSTART:20260308T080000
END:DAYLIGHT
BEGIN:STANDARD
TZOFFSETFROM:-0500
TZOFFSETTO:-0600
TZNAME:CST
DTSTART:20261101T070000
END:STANDARD
BEGIN:DAYLIGHT
TZOFFSETFROM:-0600
TZOFFSETTO:-0500
TZNAME:CDT
DTSTART:20270314T080000
END:DAYLIGHT
BEGIN:STANDARD
TZOFFSETFROM:-0500
TZOFFSETTO:-0600
TZNAME:CST
DTSTART:20271107T070000
END:STANDARD
BEGIN:DAYLIGHT
TZOFFSETFROM:-0600
TZOFFSETTO:-0500
TZNAME:CDT
DTSTART:20280312T080000
END:DAYLIGHT
BEGIN:STANDARD
TZOFFSETFROM:-0500
TZOFFSETTO:-0600
TZNAME:CST
DTSTART:20281105T070000
END:STANDARD
END:VTIMEZONE
BEGIN:VEVENT
DTSTART;TZID=America/Chicago:20270312T090000
DTEND;TZID=America/Chicago:20270312T173000
DTSTAMP:20260424T051916
CREATED:20240714T212525Z
LAST-MODIFIED:20260211T153743Z
UID:826-1804842000-1804872600@fsc.kids
SUMMARY:Culture and Play Therapy: Working with Various Populations
DESCRIPTION:Presenter: Nancy Rumley Soliz\, MS\, LMFT\, RPT-S™ \nCourse Description\nThis course will focus on providing culturally sensitive play therapy in the treatment of diverse populations. Some of the populations to be discussed include:  various tribal cultures\, military families\, and foster care. Other cultural\, socio-economic\, and sexual identity/orientation will also be explored in using various play therapy theories\, techniques\, and applications. \nLearning Objectives \n\nDemonstrate 2 or more practical applications in play therapy that may need to be adjusted to meet the needs of various cultures.\nDescribe 1 or more ways in which cultural humility should inform your practice in play therapy.\nDescribe 2 or more clinical considerations in implementing play therapy within military culture.\nDescribe 2 or more clinical considerations in implementing play therapy within foster care culture\nDescribe 2 or more clinical considerations in implementing play therapy within Native American culture\nDescribe 2 or more clinical considerations in implementing play therapy within LGBTQIA+ culture\nAssess 1 or more ways your role as a professional should be explored in working with various cultures utilizing play therapy.\nAnalyze 2 or more ways how your own culture influences your interactions with play therapy clients that have similar or different cultural backgrounds.\n\nAPT Approved Provider 17-491 \nPrice: $195 for 7.5 CE Hours \nClick Here to Register
URL:https://fsc.kids/event/culture-and-play-therapy-working-with-various-populations/
LOCATION:FSC Kids\, 10400 N. Vineyard\, Suite B\, Oklahoma City\, OK\, 73120
CATEGORIES:OK Play Therapy Training Institute
END:VEVENT
END:VCALENDAR