BEGIN:VCALENDAR
VERSION:2.0
PRODID:-//FSC Kids - ECPv6.15.20//NONSGML v1.0//EN
CALSCALE:GREGORIAN
METHOD:PUBLISH
X-ORIGINAL-URL:https://fsc.kids
X-WR-CALDESC:Events for FSC Kids
REFRESH-INTERVAL;VALUE=DURATION:PT1H
X-Robots-Tag:noindex
X-PUBLISHED-TTL:PT1H
BEGIN:VTIMEZONE
TZID:America/Chicago
BEGIN:DAYLIGHT
TZOFFSETFROM:-0600
TZOFFSETTO:-0500
TZNAME:CDT
DTSTART:20260308T080000
END:DAYLIGHT
BEGIN:STANDARD
TZOFFSETFROM:-0500
TZOFFSETTO:-0600
TZNAME:CST
DTSTART:20261101T070000
END:STANDARD
BEGIN:DAYLIGHT
TZOFFSETFROM:-0600
TZOFFSETTO:-0500
TZNAME:CDT
DTSTART:20270314T080000
END:DAYLIGHT
BEGIN:STANDARD
TZOFFSETFROM:-0500
TZOFFSETTO:-0600
TZNAME:CST
DTSTART:20271107T070000
END:STANDARD
BEGIN:DAYLIGHT
TZOFFSETFROM:-0600
TZOFFSETTO:-0500
TZNAME:CDT
DTSTART:20280312T080000
END:DAYLIGHT
BEGIN:STANDARD
TZOFFSETFROM:-0500
TZOFFSETTO:-0600
TZNAME:CST
DTSTART:20281105T070000
END:STANDARD
END:VTIMEZONE
BEGIN:VEVENT
DTSTART;TZID=America/Chicago:20270409T083000
DTEND;TZID=America/Chicago:20270410T170000
DTSTAMP:20260423T233308
CREATED:20260218T214108Z
LAST-MODIFIED:20260220T140532Z
UID:5841-1807259400-1807376400@fsc.kids
SUMMARY:The Roots of Me: Examining the Self of the Play Therapist through Sandtray
DESCRIPTION:Presenter: Mandy Jones-Fischer\, LCSW\, RPT-S\, JD (See bio below) \nSponsored by: Oklahoma Play Therapy Training Institute (APT Approved Provider #: 17-491) \nTotal CEs: 14 In-Person Contact Hours \nAgenda: 8:30am to 5:00pm both days \nMorning Break: 10:30 am-10:45 am \nLunch: 12:45 pm to 1:45 pm \nAfternoon Break: 3:45 pm to 4:00 pm \nCourse Description\nThere is a reason you are a therapist. You are not just any type of therapist. You are a play therapist. When was the last time you examined why? In this highly experiential course\, we will use four lenses to examine the self as therapist: family system of origin\, touch\, identity as healer\, and identities  within(and outside of) the play therapy room. This four-part program will examine each lens through a left-brained\, relational neuroscience perspective paired with a right-brained sandtray perspective. Relational neuroscience tells us that the relationship between the therapist and client is the biggest agent of change and contrary to graduate school teachings\, the embodiment of therapist as self plays a critical role in a client’s healing. By examining parts of the play therapist as self that are divisive or uncomfortable\, we are better able to be fully present in body and soul for our clients. \nLearning Objectives\n(1) Identify the four lenses by which a therapist can examine themselves in their play therapy work\n(2) Explain the importance that family of origin has on the play therapist\n(3) Assess the role that the therapist’s father has played in the life of the play therapist\n(4) Identify two benefits that touch has on healing in play therapy\n(5) Describe two ethical concerns about touch in play therapy\n(6) Examine the role that touch has had on the functioning of the play therapist\n(7) Describe multicultural perspectives of what it means to be a play therapist and a healer\n(8) Utilize sandtray to examine the embodied role of healer\n(9) Assess how the role of healer impacts the play therapist’s presence in the therapy room\n(10) Apply parts work to examine various identities of the play therapist\n(11) Identify two ethical conundrums around self-disclosure in play therapy\n(12) Compare the identities of the play therapist self that come into the therapy room against those that are left outside the therapy room door. \nPresenter Bio  \nMandy Jones-Fischer (She/Her/Hers)\, LCSW\, RPT-S™\, JD is a Certified Theraplay® Practitioner\, Trainer\, and Supervisor. She also has extensive training in sandtray therapy. Mandy has worked almost exclusively with adoptive and foster families since she began her career. She takes a particular interest in helping families with young children form strong attachments and work through sensory concerns. Mandy is also experienced in helping adopted individuals with identity\, loss\, and anxiety concerns throughout their lifespan. More recently\, Mandy has been focusing her clinical work on helping children born during the height of the COVID-19 pandemic who are struggling with overwhelming anxiety. While Mandy doesn’t regularly practice law\, through her legal work she has advocated for children in both the Illinois and Michigan child welfare systems. She continues to use her legal knowledge and\nadvocacy skills to help families gain Individualized Education Programs (IEPs) and other essential resources for children.\nAfter serving in various roles at The Theraplay Institute over 11 years and culminating as the Executive Director\, she opened a private practice in Chicago in 2024. Mandy earned her BA in Political Science and her BS in Psychology from Loyola University Chicago. She earned her Master of Clinical Social Work and Juris Doctorate from Michigan State University. She is further trained in TBRI and ARC. Mandy can be reached at mandy@nurturedrootschicago.com. \nRegister Here: \n \n 
URL:https://fsc.kids/event/the-roots-of-me-examining-the-self-of-the-play-therapist-through-sandtray/
LOCATION:FSC Kids\, 10400 N. Vineyard\, Suite B\, Oklahoma City\, OK\, 73120
ORGANIZER;CN="Oklahoma Play Therapy Training Institute":MAILTO:oklahomaplaytherapy@gmail.com
END:VEVENT
END:VCALENDAR